BEGIN:VCALENDAR
VERSION:2.0
PRODID:TU Chemnitz
METHOD:PUBLISH
X-WR-CALNAME:Veranstaltungen der TU Chemnitz
X-WR-TIMEZONE:Europe/Berlin
BEGIN:VEVENT
CLASS:PUBLIC
DTSTART;TZID="Europe/Berlin":20031023T190000
DTEND;TZID="Europe/Berlin":20031023T203000
LOCATION:Reichenhainer Str. 90\, Chemnitz (Zentr. Hörsaal- und Seminargebäude)
SUMMARY:Ergebnisse einer Besucherbefragung im Industriemuseum Chemnitz (Kolloquium des Fachgebiets Geschichte)
DESCRIPTION:rudolf.boch@phil.tu-chemnitz.de
ORGANIZER:MAILTO:pev@hrz.tu-chemnitz.de
UID:3874@www.tu-chemnitz.de
CREATED:20031020T151600Z
DTSTAMP:20210802T201341Z
END:VEVENT
END:VCALENDAR
