BEGIN:VCALENDAR
VERSION:2.0
PRODID:TU Chemnitz
METHOD:PUBLISH
X-WR-CALNAME:Veranstaltungen der TU Chemnitz
X-WR-TIMEZONE:Europe/Berlin
BEGIN:VEVENT
CLASS:PUBLIC
DTSTART;TZID="Europe/Berlin":19990330T100000
DTEND;TZID="Europe/Berlin":19990330T120000
LOCATION:Reichenhainer Str. 88\, Seminarraum
SUMMARY:Institutskolloquium 1999 (Institut für Mechatronik e.V.)
DESCRIPTION:Thema des Vortrages: \nEntwicklung und Erprobung eines Fuzzy-Reglers zur Erhöhung der Produktqualität bei Straggießanlagen\nProf. Dr.-Ing. Georg Bretthauer\, Leiter der Instituts für Angewandte Informatik des Forschungszentrums Karlsruhe
ORGANIZER:MAILTO:hfreu@hrz.tu-chemnitz.de
UID:387@www.tu-chemnitz.de
CREATED:19990301T091400Z
DTSTAMP:20210802T203450Z
END:VEVENT
END:VCALENDAR
