BEGIN:VCALENDAR
VERSION:2.0
PRODID:TU Chemnitz
METHOD:PUBLISH
X-WR-CALNAME:Veranstaltungen der TU Chemnitz
X-WR-TIMEZONE:Europe/Berlin
BEGIN:VEVENT
CLASS:PUBLIC
DTSTART;TZID="Europe/Berlin":20031019T210000
DTEND;TZID="Europe/Berlin":20031019T235900
LOCATION:PEB-Studentenkeller\, Reichenhainer Str.37
SUMMARY:Sonntagskneipe (PEB-Studentenkeller)
DESCRIPTION:   \n... mal in Ruhe mit Freunden ein Bier trinken ...\n  \n
ORGANIZER:MAILTO:thein@hrz.tu-chemnitz.de
UID:3864@www.tu-chemnitz.de
CREATED:20031017T133400Z
DTSTAMP:20210802T201341Z
END:VEVENT
END:VCALENDAR
