BEGIN:VCALENDAR
VERSION:2.0
PRODID:TU Chemnitz
METHOD:PUBLISH
X-WR-CALNAME:Veranstaltungen der TU Chemnitz
X-WR-TIMEZONE:Europe/Berlin
BEGIN:VEVENT
CLASS:PUBLIC
DTSTART;TZID="Europe/Berlin":20031029T163000
DTEND;TZID="Europe/Berlin":20031029T183000
LOCATION:Str. der Nationen 62\, Chemnitz (Böttcher-Bau)
SUMMARY:Die Natur der chemischen Bindung - alte Fragen\, neue Antworten (Fakultät für Naturwissenschaften\, Institut für Chemie)
DESCRIPTION:Prof. Gernor Frenking\, Universität Marburg\nProf. Dr. Werner Thiel\, fon: 0371 531 1571\, fax: 0371 531 1833\, e-mail: werner.thiel@chemie.tu-chemnitz.de
ORGANIZER:MAILTO:erah@hrz.tu-chemnitz.de
UID:3851@www.tu-chemnitz.de
CREATED:20031014T072300Z
DTSTAMP:20210802T201336Z
END:VEVENT
END:VCALENDAR
