BEGIN:VCALENDAR
VERSION:2.0
PRODID:TU Chemnitz
METHOD:PUBLISH
X-WR-CALNAME:Veranstaltungen der TU Chemnitz
X-WR-TIMEZONE:Europe/Berlin
BEGIN:VEVENT
CLASS:PUBLIC
DTSTART;TZID="Europe/Berlin":20031127T160000
DTEND;TZID="Europe/Berlin":20031127T180000
LOCATION:Str. der Nationen 62\, Chemnitz (Böttcher-Bau)
SUMMARY:In memoriam Fritz Straßmann (Fakultät für Naturwissenschaften\, Institut für Chemie)
DESCRIPTION:Dr. habil. Wolfgang Dedek\, Universität Leipzig\nProf. Dr. G.Marx\, fon: (0371) 531 1713\, fax: (0371) 531 1371\, e-mail: guenter.marx@chemie.tu-chemnitz.de
ORGANIZER:MAILTO:erah@hrz.tu-chemnitz.de
UID:3844@www.tu-chemnitz.de
CREATED:20031013T114800Z
DTSTAMP:20210802T201247Z
END:VEVENT
END:VCALENDAR
