BEGIN:VCALENDAR
VERSION:2.0
PRODID:TU Chemnitz
METHOD:PUBLISH
X-WR-CALNAME:Veranstaltungen der TU Chemnitz
X-WR-TIMEZONE:Europe/Berlin
BEGIN:VEVENT
CLASS:PUBLIC
DTSTART;TZID="Europe/Berlin":20031002T210000
DTEND;TZID="Europe/Berlin":20031002T230000
LOCATION:Reichenhainer Str.35/37 Keller 09126 Chemnitz
SUMMARY:[Kino] im mittendrin: Kurzfilmprogramm Konfrontationen: Gegen Gewalt und Intoleranz 1  (Filmclub mittendrin)
DESCRIPTION:Eine internationale Kurzfilmrolle mit elf heftigen\, bizarren\, ironischen und grenzüberschreitenden Filmen. \n\n\nEinlass: 20.30 Uhr\nBeginn: 21.00 Uhr\nEintritt: € 3\,-\nwww.filmclub-mittendrin.de
ORGANIZER:MAILTO:fuh@hrz.tu-chemnitz.de
UID:3814@www.tu-chemnitz.de
CREATED:20031001T160500Z
DTSTAMP:20210802T201342Z
END:VEVENT
END:VCALENDAR
