BEGIN:VCALENDAR
VERSION:2.0
PRODID:TU Chemnitz
METHOD:PUBLISH
X-WR-CALNAME:Veranstaltungen der TU Chemnitz
X-WR-TIMEZONE:Europe/Berlin
BEGIN:VEVENT
CLASS:PUBLIC
DTSTART;TZID="Europe/Berlin":20031127T153000
DTEND;TZID="Europe/Berlin":20031127T170000
LOCATION:Str. der Nationen 62\, Chemnitz (Böttcher-Bau)
SUMMARY:Studieren weltweit - Stipendien des DAAD (TU Chemnitz\, Internationales Universitätskolleg)
DESCRIPTION:Informationsveranstaltung des Internationalen Universitätskollegs\nFrau Martina Lorenz
ORGANIZER:MAILTO:kgu@hrz.tu-chemnitz.de
UID:3808@www.tu-chemnitz.de
CREATED:20030930T115900Z
DTSTAMP:20210802T201242Z
END:VEVENT
END:VCALENDAR
