BEGIN:VCALENDAR
VERSION:2.0
PRODID:TU Chemnitz
METHOD:PUBLISH
X-WR-CALNAME:Veranstaltungen der TU Chemnitz
X-WR-TIMEZONE:Europe/Berlin
BEGIN:VEVENT
CLASS:PUBLIC
DTSTART;TZID="Europe/Berlin":20031125T123000
DTEND;TZID="Europe/Berlin":20031125T163000
LOCATION:Reichenhainer Str. 70\, Chemnitz (Weinhold-Bau)
SUMMARY:50 Jahre Maschinenbau in Lehre und Forschung (Fakultät für Maschinenbau)
DESCRIPTION:Festveranstaltung der Fakultät für Maschinenbau für Fakultätsangehörige\, Ehemalige\, Freunde und Förderer der Universität\nProf. Neugebauer (Dekan)\, Dr. Naumann (NILES-SIMMONS)\, Prof. Wucherer (SIEMENS AG)\, Dr. Wieland (UNION Werkzeugmaschinen GmbH)\,\nHeidrun Fischer\, Tel. 531-2285
ORGANIZER:MAILTO:fihe@hrz.tu-chemnitz.de
UID:3801@www.tu-chemnitz.de
CREATED:20030930T081900Z
DTSTAMP:20210802T201251Z
END:VEVENT
END:VCALENDAR
