BEGIN:VCALENDAR
VERSION:2.0
PRODID:TU Chemnitz
METHOD:PUBLISH
X-WR-CALNAME:Veranstaltungen der TU Chemnitz
X-WR-TIMEZONE:Europe/Berlin
BEGIN:VEVENT
CLASS:PUBLIC
DTSTART;TZID="Europe/Berlin":19990517T090000
DTEND;TZID="Europe/Berlin":19990519T160000
LOCATION:Uni-Teil 3: Reichenhainer Str. 70\, Chemnitz (Rühlmann-Bau)
SUMMARY:Zeichnen mit Auto-CAD (R 14) (Fakultät für Maschinenbau und Verfahrenstechnik\, CIMTT)
DESCRIPTION:- CAD Modelldarstellung\n- Grundwerkzeuge\n- Ordnen\, Gliedern und Zusammenfassen von Zeichnungselementen\n- Schraffuren und Bemaßungen\n- praktische Übung\nGebühr: 490 DM (Uni-Angehörige und Nicht-Erwerbstätige frei)\nDr.-Ing. B. Lieberwirth\nCIMTT\, 0371/531-2218\, cimtt@mb2.tu-chemnitz.de
ORGANIZER:MAILTO:rean@hrz.tu-chemnitz.de
UID:380@www.tu-chemnitz.de
CREATED:19990224T151000Z
DTSTAMP:20210802T203423Z
END:VEVENT
END:VCALENDAR
