BEGIN:VCALENDAR
VERSION:2.0
PRODID:TU Chemnitz
METHOD:PUBLISH
X-WR-CALNAME:Veranstaltungen der TU Chemnitz
X-WR-TIMEZONE:Europe/Berlin
BEGIN:VEVENT
CLASS:PUBLIC
DTSTART;TZID="Europe/Berlin":20031001T213000
DTEND;TZID="Europe/Berlin":20031002T020000
LOCATION:PEB-Studentenkeller\, Reichenhainer Str.37
SUMMARY:PEB-Mittwochsdisco (PEB-Studentenkeller)
DESCRIPTION:  \nOffizieller Start des neuen Semesters - die \nbeste Party am Mittwoch Abend findet nachwievor\nim PEB statt! Beste Musik\, jede Menge Spaß\,\nGetränke zu studentenfreundlichen Preisen....\n\nUnd noch einmal gilt:\n\nEINTRITT FREI!!\n  \n \n\n
ORGANIZER:MAILTO:thein@hrz.tu-chemnitz.de
UID:3798@www.tu-chemnitz.de
CREATED:20030929T095600Z
DTSTAMP:20210802T201344Z
END:VEVENT
END:VCALENDAR
