BEGIN:VCALENDAR
VERSION:2.0
PRODID:TU Chemnitz
METHOD:PUBLISH
X-WR-CALNAME:Veranstaltungen der TU Chemnitz
X-WR-TIMEZONE:Europe/Berlin
BEGIN:VEVENT
CLASS:PUBLIC
DTSTART;TZID="Europe/Berlin":20030930T193000
DTEND;TZID="Europe/Berlin":20030930T235900
LOCATION:Reichenhainer Str. 55\, Chemnitz (Mensa)
SUMMARY:Sportkneipe im TaC: Anderlecht gegen FC Bayern (TaC)
DESCRIPTION:Celtic Glasgow FC-Olympique Lyonnais  \nRSC Anderlecht-FC Bayern München  \nFC Inter Mailand-FC Dynamo Kiev  \nFC Lokomotive Moskau-Arsenal FC  \nRC Deportivo La Coruna-PSV Eindhoven \nOlympiacos CF Piraeus-Juventus FC Turin \n
ORGANIZER:MAILTO:made@hrz.tu-chemnitz.de
UID:3796@www.tu-chemnitz.de
CREATED:20030929T090700Z
DTSTAMP:20210802T201440Z
END:VEVENT
END:VCALENDAR
