BEGIN:VCALENDAR
VERSION:2.0
PRODID:TU Chemnitz
METHOD:PUBLISH
X-WR-CALNAME:Veranstaltungen der TU Chemnitz
X-WR-TIMEZONE:Europe/Berlin
BEGIN:VEVENT
CLASS:PUBLIC
DTSTART;TZID="Europe/Berlin":20030920T150000
DTEND;TZID="Europe/Berlin":20030920T180000
LOCATION:Reichenhainer Str. 55\, Chemnitz (Mensa)
SUMMARY:Sportkneipe im TaC - Bundesliga-Konferenzschaltung (TU Chemnitz)
DESCRIPTION:Das Spitzenduell: FC Bayern München gegen Bayer 04 Leverkusen und \nStuttgart gegen Dortmund.....
ORGANIZER:MAILTO:made@hrz.tu-chemnitz.de
UID:3787@www.tu-chemnitz.de
CREATED:20030917T155600Z
DTSTAMP:20210802T201436Z
END:VEVENT
END:VCALENDAR
