BEGIN:VCALENDAR
VERSION:2.0
PRODID:TU Chemnitz
METHOD:PUBLISH
X-WR-CALNAME:Veranstaltungen der TU Chemnitz
X-WR-TIMEZONE:Europe/Berlin
BEGIN:VEVENT
CLASS:PUBLIC
DTSTART;TZID="Europe/Berlin":20031120T200000
DTEND;TZID="Europe/Berlin":20031120T235900
LOCATION:Reichenhainer Str. 55\, Chemnitz (Mensa)
SUMMARY:Rüdiger Nehberg :  (TU Chemnitz)
DESCRIPTION:Zum zweiten Mal hat die Mensa das Glück den Überlebenskünstler\n"Rüdiger Nehberg" mit einem bestimmt wieder unvergesslichen Diaabend begrüßen zu dürfen.\nKartenvorverkauf im Boofe - Der Tekkingladen und im TaC ab Oktober.\nRüdiger Nehberg
ORGANIZER:MAILTO:made@hrz.tu-chemnitz.de
UID:3762@www.tu-chemnitz.de
CREATED:20030901T173200Z
DTSTAMP:20210802T201256Z
END:VEVENT
END:VCALENDAR
