BEGIN:VCALENDAR
VERSION:2.0
PRODID:TU Chemnitz
METHOD:PUBLISH
X-WR-CALNAME:Veranstaltungen der TU Chemnitz
X-WR-TIMEZONE:Europe/Berlin
BEGIN:VEVENT
CLASS:PUBLIC
DTSTART;TZID="Europe/Berlin":20030913T150000
DTEND;TZID="Europe/Berlin":20030913T180000
LOCATION:Reichenhainer Str. 55\, Chemnitz (Mensa)
SUMMARY:Sportkneipe im TaC: Bundesliga-Konferenzschaltung (TU Chemnitz)
DESCRIPTION:...nach langer Pause endlich wieder Bundesliga am Samstag im TaC....jagt die Bayern !!!
ORGANIZER:MAILTO:made@hrz.tu-chemnitz.de
UID:3761@www.tu-chemnitz.de
CREATED:20030901T153700Z
DTSTAMP:20210802T201438Z
END:VEVENT
END:VCALENDAR
