BEGIN:VCALENDAR
VERSION:2.0
PRODID:TU Chemnitz
METHOD:PUBLISH
X-WR-CALNAME:Veranstaltungen der TU Chemnitz
X-WR-TIMEZONE:Europe/Berlin
BEGIN:VEVENT
CLASS:PUBLIC
DTSTART;TZID="Europe/Berlin":20030906T160000
DTEND;TZID="Europe/Berlin":20030906T190000
LOCATION:Reichenhainer Str. 55\, Chemnitz (Mensa)
SUMMARY:Sportkneipe im TaC: Island - Deutschland (TU Chemnitz)
DESCRIPTION:....die Deutschen werden das Ticket lösen......
ORGANIZER:MAILTO:made@hrz.tu-chemnitz.de
UID:3758@www.tu-chemnitz.de
CREATED:20030901T153100Z
DTSTAMP:20210802T201439Z
END:VEVENT
END:VCALENDAR
