BEGIN:VCALENDAR
VERSION:2.0
PRODID:TU Chemnitz
METHOD:PUBLISH
X-WR-CALNAME:Veranstaltungen der TU Chemnitz
X-WR-TIMEZONE:Europe/Berlin
BEGIN:VEVENT
CLASS:PUBLIC
DTSTART;TZID="Europe/Berlin":20031111T180000
DTEND;TZID="Europe/Berlin":20031111T200000
LOCATION:Reichenhainer Str. 90\, Chemnitz (Zentr. Hörsaal- und Seminargebäude)
SUMMARY:Podiumsdiskussion zum Thema "Medien und Politik - Wer regiert das Land?"  (Ring Christlich-Demokratischer Studenten Hochschulgruppe Chemnitz)
DESCRIPTION:\nDiskussion zu diesem interessanten Thema mit:\n\n- Prof. Dr. Werner Holly\, Professur für Germanistische Sprachwissenschaft an der TU Chemnitz\n- Dr. Roland Wöller MdL\, medienpolitischer Sprecher der CDU-Landtagsfraktion \n\n\nRCDS - Projekt Zukunft.\nrcds@tu-chemnitz.de
ORGANIZER:MAILTO:marck@hrz.tu-chemnitz.de
UID:3756@www.tu-chemnitz.de
CREATED:20030829T131300Z
DTSTAMP:20210802T201242Z
END:VEVENT
END:VCALENDAR
