BEGIN:VCALENDAR
VERSION:2.0
PRODID:TU Chemnitz
METHOD:PUBLISH
X-WR-CALNAME:Veranstaltungen der TU Chemnitz
X-WR-TIMEZONE:Europe/Berlin
BEGIN:VEVENT
CLASS:PUBLIC
DTSTART;VALUE=DATE:20031021
DTEND;VALUE=DATE:20031023
LOCATION:Str. der Nationen 62\, Chemnitz (Böttcher-Bau)
SUMMARY:Herbstuniversität / Frauenschnupperstudium (TU Chemnitz\, Marketing/Öffentlichkeitsarbeit)
DESCRIPTION:Anja Loose\, Tel. 531 1638\, Zentrale Studienberatung\, Tel. 531 1840
ORGANIZER:MAILTO:iroe@hrz.tu-chemnitz.de
UID:3752@www.tu-chemnitz.de
CREATED:20030827T132000Z
DTSTAMP:20210802T201340Z
END:VEVENT
END:VCALENDAR
