BEGIN:VCALENDAR
VERSION:2.0
PRODID:TU Chemnitz
METHOD:PUBLISH
X-WR-CALNAME:Veranstaltungen der TU Chemnitz
X-WR-TIMEZONE:Europe/Berlin
BEGIN:VEVENT
CLASS:PUBLIC
DTSTART;TZID="Europe/Berlin":20031112T140000
DTEND;TZID="Europe/Berlin":20031112T140000
LOCATION:Reichenhainer Str. 90\, Chemnitz (Zentr. Hörsaal- und Seminargebäude)
SUMMARY:Ehrenkolloquium zur Verabschiedung von Altmagnifizenz Prof. Dr. Günther Grünthal (TU Chemnitz\, Marketing/Öffentlichkeitsarbeit)
DESCRIPTION:Claudia Pfeiffer\, Tel. 531 1590
ORGANIZER:MAILTO:iroe@hrz.tu-chemnitz.de
UID:3751@www.tu-chemnitz.de
CREATED:20030827T130300Z
DTSTAMP:20210802T201245Z
END:VEVENT
END:VCALENDAR
