BEGIN:VCALENDAR
VERSION:2.0
PRODID:TU Chemnitz
METHOD:PUBLISH
X-WR-CALNAME:Veranstaltungen der TU Chemnitz
X-WR-TIMEZONE:Europe/Berlin
BEGIN:VEVENT
CLASS:PUBLIC
DTSTART;TZID="Europe/Berlin":20031204T140000
DTEND;TZID="Europe/Berlin":20031204T180000
LOCATION:Str. der Nationen 62\, Chemnitz (Böttcher-Bau)
SUMMARY:16. Stöckhardt-Kolloquium (Fakultät für Naturwissenschaften\, Institut für Chemie gemeinsam mit dem Ortsverband der Gesellschaft Deutscher Chemiker)
DESCRIPTION:1. Was ist los mit unserem Klima? Lehren aus der Klimageschichte\n2. Globaler und regionaler Klimawandel im Indtstriezeitalter - Was wissen wir\, was müssen wir tun?\nProf. Dr. Stefan Rahmstorf und Prof. Dr. Christian.-D. Schönwiese\nProf. Dr. R. Holze\, fon: 0371 531 1509\, e-mail: rudolf.holze@chemie.tu-chemnitz.de
ORGANIZER:MAILTO:erah@hrz.tu-chemnitz.de
UID:3736@www.tu-chemnitz.de
CREATED:20030819T102100Z
DTSTAMP:20210802T201222Z
END:VEVENT
END:VCALENDAR
