BEGIN:VCALENDAR
VERSION:2.0
PRODID:TU Chemnitz
METHOD:PUBLISH
X-WR-CALNAME:Veranstaltungen der TU Chemnitz
X-WR-TIMEZONE:Europe/Berlin
BEGIN:VEVENT
CLASS:PUBLIC
DTSTART;TZID="Europe/Berlin":20030929T140000
DTEND;TZID="Europe/Berlin":20030929T150000
LOCATION:Reichenhainer Str. 70\, Chemnitz (Weinhold-Bau)
SUMMARY:Führung durch das Medienzentrum für ausländische Studenten (Universitätsverwaltung\, Internationales Universitätskolleg)
DESCRIPTION:Inta Bassinkaite und Shen Hui
ORGANIZER:MAILTO:inken@hrz.tu-chemnitz.de
UID:3727@www.tu-chemnitz.de
CREATED:20030818T102100Z
DTSTAMP:20210802T201442Z
END:VEVENT
END:VCALENDAR
