BEGIN:VCALENDAR
VERSION:2.0
PRODID:TU Chemnitz
METHOD:PUBLISH
X-WR-CALNAME:Veranstaltungen der TU Chemnitz
X-WR-TIMEZONE:Europe/Berlin
BEGIN:VEVENT
CLASS:PUBLIC
DTSTART;TZID="Europe/Berlin":20030802T210000
DTEND;TZID="Europe/Berlin":20030803T030000
LOCATION:Vettersstr. 70/72\, Chemnitz (Studentenwohnheim)
SUMMARY:>>>Mosh-Club<<< (FPM-Studentenclub)
DESCRIPTION:\nDer Heavy Metal-Treff in Chemnitz.\n\nEintritt: 1\,- Euro
ORGANIZER:MAILTO:hoga@hrz.tu-chemnitz.de
UID:3702@www.tu-chemnitz.de
CREATED:20030729T194900Z
DTSTAMP:20210802T201529Z
END:VEVENT
END:VCALENDAR
