BEGIN:VCALENDAR
VERSION:2.0
PRODID:TU Chemnitz
METHOD:PUBLISH
X-WR-CALNAME:Veranstaltungen der TU Chemnitz
X-WR-TIMEZONE:Europe/Berlin
BEGIN:VEVENT
CLASS:PUBLIC
DTSTART;TZID="Europe/Berlin":20030802T144500
DTEND;TZID="Europe/Berlin":20030802T180000
LOCATION:Reichenhainer Str. 55\, Chemnitz (Mensa)
SUMMARY:Bundesliga-Kneipe im TaC (TU Chemnitz)
DESCRIPTION:....die Bundesdliga geht endlich wieder los....Spitzenspiel:\nSchalke-Dortmund....
ORGANIZER:MAILTO:made@hrz.tu-chemnitz.de
UID:3694@www.tu-chemnitz.de
CREATED:20030729T142500Z
DTSTAMP:20210802T201528Z
END:VEVENT
END:VCALENDAR
