BEGIN:VCALENDAR
VERSION:2.0
PRODID:TU Chemnitz
METHOD:PUBLISH
X-WR-CALNAME:Veranstaltungen der TU Chemnitz
X-WR-TIMEZONE:Europe/Berlin
BEGIN:VEVENT
CLASS:PUBLIC
DTSTART;TZID="Europe/Berlin":20030730T213000
DTEND;TZID="Europe/Berlin":20030731T020000
LOCATION:PEB-Studentenkeller\, Reichenhainer Str.37
SUMMARY:PEB-Mittwochsdisco (PEB-Studentenkeller)
DESCRIPTION:   \nZum Zwischen-den-Prüfungen-verschnaufen :\nAuch diesen Mittwoch öffnet der PEB\nseine Pforten - der ideale Treffpunkt\, \num neue Kräfte für die restlichen Prüfungen\nzu sammeln...\n   \n
ORGANIZER:MAILTO:thein@hrz.tu-chemnitz.de
UID:3691@www.tu-chemnitz.de
CREATED:20030729T095900Z
DTSTAMP:20210802T201553Z
END:VEVENT
END:VCALENDAR
