BEGIN:VCALENDAR
VERSION:2.0
PRODID:TU Chemnitz
METHOD:PUBLISH
X-WR-CALNAME:Veranstaltungen der TU Chemnitz
X-WR-TIMEZONE:Europe/Berlin
BEGIN:VEVENT
CLASS:PUBLIC
DTSTART;TZID="Europe/Berlin":20031029T171500
DTEND;TZID="Europe/Berlin":20031029T184500
LOCATION:Reichenhainer Str. 90\, Chemnitz (Zentr. Hörsaal- und Seminargebäude)
SUMMARY:Adsorption an Oberflächen von ZnO (TU Chemnitz\, Institut für Physik)
DESCRIPTION:Physikalisches Kolloquium!\nDr. Bernd Meyer\, Ruhr-Universität Bochum\nDr. Sibylle Gemming\, Tel. 3149
ORGANIZER:MAILTO:elhi@hrz.tu-chemnitz.de
UID:3687@www.tu-chemnitz.de
CREATED:20030723T155200Z
DTSTAMP:20210802T201343Z
END:VEVENT
END:VCALENDAR
