BEGIN:VCALENDAR
VERSION:2.0
PRODID:TU Chemnitz
METHOD:PUBLISH
X-WR-CALNAME:Veranstaltungen der TU Chemnitz
X-WR-TIMEZONE:Europe/Berlin
BEGIN:VEVENT
CLASS:PUBLIC
DTSTART;TZID="Europe/Berlin":20030722T101500
DTEND;TZID="Europe/Berlin":20030722T200000
LOCATION:Reichenhainer Str. 70\, Chemnitz (Zentr. Hörsaal- und Seminargebäude)
SUMMARY:Vorträge der Bewerber für die Professur "Antike und Europa" (Philosophische Fakultät\, FG Geschichte)
DESCRIPTION:s. Akündigung\nProf. Dr. G. Dohrn-van Rossum\, 0371 5314916
ORGANIZER:MAILTO:nosc@hrz.tu-chemnitz.de
UID:3677@www.tu-chemnitz.de
CREATED:20030718T175500Z
DTSTAMP:20210802T201556Z
END:VEVENT
END:VCALENDAR
