BEGIN:VCALENDAR
VERSION:2.0
PRODID:TU Chemnitz
METHOD:PUBLISH
X-WR-CALNAME:Veranstaltungen der TU Chemnitz
X-WR-TIMEZONE:Europe/Berlin
BEGIN:VEVENT
CLASS:PUBLIC
DTSTART;TZID="Europe/Berlin":20031210T171500
DTEND;TZID="Europe/Berlin":20031210T184500
LOCATION:Reichenhainer Str. 90\, Chemnitz (Zentr. Hörsaal- und Seminargebäude)
SUMMARY:Wachstum epitaktischer Schichten von MnBi als magnetooptisches Speichermedium (TU Chemnitz\, Institut für Physik)
DESCRIPTION:Physikalisches Kolloquium!\nPD Dr. habil. Jens Paggel\, Freie Universität Berlin\nProf. Dr. Hans-Jürgen Hinneberg\, Tel. 3098
ORGANIZER:MAILTO:elhi@hrz.tu-chemnitz.de
UID:3667@www.tu-chemnitz.de
CREATED:20030715T155600Z
DTSTAMP:20210802T201212Z
END:VEVENT
END:VCALENDAR
