BEGIN:VCALENDAR
VERSION:2.0
PRODID:TU Chemnitz
METHOD:PUBLISH
X-WR-CALNAME:Veranstaltungen der TU Chemnitz
X-WR-TIMEZONE:Europe/Berlin
BEGIN:VEVENT
CLASS:PUBLIC
DTSTART;TZID="Europe/Berlin":20031112T171500
DTEND;TZID="Europe/Berlin":20031112T184500
LOCATION:Reichenhainer Str. 90\, Chemnitz (Zentr. Hörsaal- und Seminargebäude)
SUMMARY:Untersuchungen an amorphen Systemen bei DESY (TU Chemnitz\, Institut für Physik)
DESCRIPTION:Physikalisches Kolloquium!\nDr. Hermann Franz\, DESY/HASYLAB Hamburg\nProf. Dr. Walter Hoyer\, Tel. 8208
ORGANIZER:MAILTO:elhi@hrz.tu-chemnitz.de
UID:3661@www.tu-chemnitz.de
CREATED:20030714T155800Z
DTSTAMP:20210802T201255Z
END:VEVENT
END:VCALENDAR
