BEGIN:VCALENDAR
VERSION:2.0
PRODID:TU Chemnitz
METHOD:PUBLISH
X-WR-CALNAME:Veranstaltungen der TU Chemnitz
X-WR-TIMEZONE:Europe/Berlin
BEGIN:VEVENT
CLASS:PUBLIC
DTSTART;TZID="Europe/Berlin":20030711T210000
DTEND;TZID="Europe/Berlin":20030712T030000
LOCATION:PEB-Studentenkeller\, Reichenhainer Str.37
SUMMARY:SALSA-ABEND (PEB-Studentenkeller)
DESCRIPTION:  \nTanzen bis in den frühen morgen!\n\nDJ Jose legt wieder auf!!\n\nCocktails und andere erfrischende Getränke\nwerden von der Bar-Crew des PEB gereicht!\n\nMit Tanzkurs ab 21.00Uhr!\n
ORGANIZER:MAILTO:thein@hrz.tu-chemnitz.de
UID:3655@www.tu-chemnitz.de
CREATED:20030711T110200Z
DTSTAMP:20210802T201604Z
END:VEVENT
END:VCALENDAR
