BEGIN:VCALENDAR
VERSION:2.0
PRODID:TU Chemnitz
METHOD:PUBLISH
X-WR-CALNAME:Veranstaltungen der TU Chemnitz
X-WR-TIMEZONE:Europe/Berlin
BEGIN:VEVENT
CLASS:PUBLIC
DTSTART;TZID="Europe/Berlin":20030710T190000
DTEND;TZID="Europe/Berlin":20030710T203000
LOCATION:Reichenhainer Str. 70\, Chemnitz (Zentr. Hörsaal- und Seminargebäude)
SUMMARY:nonverbal media GmbH zu Gast im SAXEED Existenzgründerpodium (TU Chemnitz\, Fakultät für Maschinenbau\, Professur Unternehmensgründung)
DESCRIPTION:Frank Müller\, Geschäftsführer der Firma nonverbal media GmbH referiert zum Thema: "package informatik; import soziologie.*;\nnonverbal media - neue Perspektiven für die IT-Kommunikation".\n\n\n\nFrank Müller\, Geschäftsführer von nonverbal media GmbH\nDana Sieber\, 531-8070\, dana.sieber@mb.tu-chemnitz.de
ORGANIZER:MAILTO:sid@hrz.tu-chemnitz.de
UID:3650@www.tu-chemnitz.de
CREATED:20030709T161800Z
DTSTAMP:20210802T201600Z
END:VEVENT
END:VCALENDAR
