BEGIN:VCALENDAR
VERSION:2.0
PRODID:TU Chemnitz
METHOD:PUBLISH
X-WR-CALNAME:Veranstaltungen der TU Chemnitz
X-WR-TIMEZONE:Europe/Berlin
BEGIN:VEVENT
CLASS:PUBLIC
DTSTART;TZID="Europe/Berlin":20030708T200000
DTEND;TZID="Europe/Berlin":20030708T230000
LOCATION:Reichenhainer Str. 55\, Chemnitz (Mensa)
SUMMARY:Eröffnung der Beachtage-Biergarten mit Livemusik (TaC)
DESCRIPTION:Die Beachtage werden mit dem bibop-Beachbiergarten eröffnet. Rost brennt und das gezapfte Bier für 1\,00 EUR dazu bzw. das bibop für 0\,80 EUR die ganze Beachwoche über.\nTel:0177 53 87334
ORGANIZER:MAILTO:made@hrz.tu-chemnitz.de
UID:3634@www.tu-chemnitz.de
CREATED:20030707T103600Z
DTSTAMP:20210802T201551Z
END:VEVENT
END:VCALENDAR
