BEGIN:VCALENDAR
VERSION:2.0
PRODID:TU Chemnitz
METHOD:PUBLISH
X-WR-CALNAME:Veranstaltungen der TU Chemnitz
X-WR-TIMEZONE:Europe/Berlin
BEGIN:VEVENT
CLASS:PUBLIC
DTSTART;TZID="Europe/Berlin":20031107T130000
DTEND;TZID="Europe/Berlin":20031109T150000
LOCATION: Plauen
SUMMARY:English for Central Europe 2010: Saxon - Czech Perspectives (Englische Sprachwissenschaft)
DESCRIPTION:Enjoy a free conference weekend in a stylish hotel with presentations and discussions.\nStudents are invited to apply by sending a 300-800 word essay on \n"Why is English important for the future of Saxons and Czechs?" \nto english.cee@phil.tu-chemnitz.de
ORGANIZER:MAILTO:jschmied@hrz.tu-chemnitz.de
UID:3632@www.tu-chemnitz.de
CREATED:20030703T214700Z
DTSTAMP:20210802T201258Z
END:VEVENT
END:VCALENDAR
