BEGIN:VCALENDAR
VERSION:2.0
PRODID:TU Chemnitz
METHOD:PUBLISH
X-WR-CALNAME:Veranstaltungen der TU Chemnitz
X-WR-TIMEZONE:Europe/Berlin
BEGIN:VEVENT
CLASS:PUBLIC
DTSTART;VALUE=DATE:20031107
DTEND;VALUE=DATE:20031109
LOCATION:Bautzen\, Berlin und Helmstedt (Marienborn)
SUMMARY:Es war a u c h v i e l e s schlecht  (Philosophische Fakultät\, Rosa-Luxemburg-Club)
DESCRIPTION:Drei-Tagesfahrt: Gedenkstätte Bautzen\, \nGedenkstätte Berlin-Hohenschönhausen\, Gedenkstätte Berliner Mauer\,\nZentrale Stelle der BStU (Gauck/Birthler-Behörde)\, Gedenkstätte Marienborn;\n60\,- € für Busfahrt\, 2 x ÜN/HP und sämtliche Eintritte\nkatjafriedrich@lycos.de & geralf.gemser @freenet.de
ORGANIZER:MAILTO:gege@hrz.tu-chemnitz.de
UID:3625@www.tu-chemnitz.de
CREATED:20030702T194100Z
DTSTAMP:20210802T201242Z
END:VEVENT
END:VCALENDAR
