BEGIN:VCALENDAR
VERSION:2.0
PRODID:TU Chemnitz
METHOD:PUBLISH
X-WR-CALNAME:Veranstaltungen der TU Chemnitz
X-WR-TIMEZONE:Europe/Berlin
BEGIN:VEVENT
CLASS:PUBLIC
DTSTART;TZID="Europe/Berlin":20030703T190000
DTEND;TZID="Europe/Berlin":20030703T203000
LOCATION:Reichenhainer Str. 70\, Chemnitz (Zentr. Hörsaal- und Seminargebäude)
SUMMARY:Zu Gast im Existenzgründerpodium: Prof. Dr. Kajo Schommer und Dr. Andreas Brzezinski (TU Chemnitz\, Professur für Unternehmensgründung)
DESCRIPTION:Prof. Dr. Schommer (Staatsminister a. D. für Wirtschaft und Arbeit) und Dr. Brzezinski (Handwerkskammer Leipzig) beschäftigen sich in ihrem Vortrag mit dem Thema "Unternehmensnachfolge als Chance für Unternehmensgründer" am Bsp. des sächs. Handwerks.\nProf. Dr. Kajo Schommer und Dr. Andreas Brzezinski\nDana Sieber\, 531-8070\, E-Mail: dana.sieber@mbv.tu-chemnitz.de
ORGANIZER:MAILTO:sid@hrz.tu-chemnitz.de
UID:3612@www.tu-chemnitz.de
CREATED:20030630T164500Z
DTSTAMP:20210802T201604Z
END:VEVENT
END:VCALENDAR
