BEGIN:VCALENDAR
VERSION:2.0
PRODID:TU Chemnitz
METHOD:PUBLISH
X-WR-CALNAME:Veranstaltungen der TU Chemnitz
X-WR-TIMEZONE:Europe/Berlin
BEGIN:VEVENT
CLASS:PUBLIC
DTSTART;TZID="Europe/Berlin":20030708T100000
DTEND;TZID="Europe/Berlin":20030708T160000
LOCATION:Reichenhainer Str. 70\, Chemnitz (Zentr. Hörsaal- und Seminargebäude)
SUMMARY:virtuelle 3D-Jobmesse für Studenten und Absolventen (jobfair 24 GmbH - Hochschulmarketing)
DESCRIPTION:Informationen über Angebote an Praktikums- und Diplomarbeitsplätzen
ORGANIZER:MAILTO:iroe@hrz.tu-chemnitz.de
UID:3611@www.tu-chemnitz.de
CREATED:20030630T151800Z
DTSTAMP:20210802T201559Z
END:VEVENT
END:VCALENDAR
