BEGIN:VCALENDAR
VERSION:2.0
PRODID:TU Chemnitz
METHOD:PUBLISH
X-WR-CALNAME:Veranstaltungen der TU Chemnitz
X-WR-TIMEZONE:Europe/Berlin
BEGIN:VEVENT
CLASS:PUBLIC
DTSTART;TZID="Europe/Berlin":20030707T091500
DTEND;TZID="Europe/Berlin":20030707T104500
LOCATION:Reichenhainer Str. 70\, Chemnitz (Zentr. Hörsaal- und Seminargebäude)
SUMMARY:Deutschlandbilder in russischen Medien (Philosophische Fakultät)
DESCRIPTION:Im Rahmen der Vorlesungsreihe "Du sollst Dir (k)ein Bild machen" - Paradigmen gegenseitiger Wahrnehmung von Deutschen und ihren mittel-und osteuropäischen Nachbarn\nPD Dr. Gasan Gusenow\, Deutsche Welle Köln\nProf.Dr. Elke Mehnert \, Tel. 0371-5314530
ORGANIZER:MAILTO:elke@hrz.tu-chemnitz.de
UID:3604@www.tu-chemnitz.de
CREATED:20030627T185200Z
DTSTAMP:20210802T201603Z
END:VEVENT
END:VCALENDAR
