BEGIN:VCALENDAR
VERSION:2.0
PRODID:TU Chemnitz
METHOD:PUBLISH
X-WR-CALNAME:Veranstaltungen der TU Chemnitz
X-WR-TIMEZONE:Europe/Berlin
BEGIN:VEVENT
CLASS:PUBLIC
DTSTART;TZID="Europe/Berlin":20030625T190000
DTEND;TZID="Europe/Berlin":20030625T235900
LOCATION:Reichenhainer Str. 70\, Chemnitz (Weinhold-Bau)
SUMMARY:Grillfest der Naturwissenschaftler (Fakultät für Naturwissenschaften\, Fachschaftsräte)
DESCRIPTION:Es werden herzlich dazu eingeladen alle Studenten\, Hochschullehrer\, Mitarbeiter und Freunde der Fakultät für Naturwissenschaften
ORGANIZER:MAILTO:erah@hrz.tu-chemnitz.de
UID:3593@www.tu-chemnitz.de
CREATED:20030624T070300Z
DTSTAMP:20210802T201635Z
END:VEVENT
END:VCALENDAR
