BEGIN:VCALENDAR
VERSION:2.0
PRODID:TU Chemnitz
METHOD:PUBLISH
X-WR-CALNAME:Veranstaltungen der TU Chemnitz
X-WR-TIMEZONE:Europe/Berlin
BEGIN:VEVENT
CLASS:PUBLIC
DTSTART;TZID="Europe/Berlin":20030703T201500
DTEND;TZID="Europe/Berlin":20030703T213000
LOCATION:Thalia Bücher\, Galerie "Roter Turm"
SUMMARY:LITERATUR live (Philosophische Fakultät)
DESCRIPTION:Stephan Krawczyk singt und liest aus "Der Narr". Anschließend besteht die Möglichkeit zu Diskussion und Autogrammen.\nDer Eintritt ist für Studenten frei\, ansonsten 4 Euro\, bzw. 2 Euro ermäßigt.\nStephan Krawczyk
ORGANIZER:MAILTO:mah@hrz.tu-chemnitz.de
UID:3590@www.tu-chemnitz.de
CREATED:20030623T133700Z
DTSTAMP:20210802T201600Z
END:VEVENT
END:VCALENDAR
