BEGIN:VCALENDAR
VERSION:2.0
PRODID:TU Chemnitz
METHOD:PUBLISH
X-WR-CALNAME:Veranstaltungen der TU Chemnitz
X-WR-TIMEZONE:Europe/Berlin
BEGIN:VEVENT
CLASS:PUBLIC
DTSTART;TZID="Europe/Berlin":20030618T130000
DTEND;TZID="Europe/Berlin":20030620T130000
LOCATION:Dorint-Parkhotel\, Deubners Weg 12
SUMMARY:Data-Mining-Cup Anwendertage (prudsys AG\, TU Chemnitz\, KDNet)
DESCRIPTION:Größte Data-Mining-Fachkonferenz im deutschsprachigen Raum mit vielfältigem Vortragsprogramm sowie der Preisverleihung zum internationalen Studentenwettbewerb\n
ORGANIZER:MAILTO:jzei@informatik.tu-chemnitz.de
UID:3583@www.tu-chemnitz.de
CREATED:20030618T084600Z
DTSTAMP:20210802T201629Z
END:VEVENT
END:VCALENDAR
