BEGIN:VCALENDAR
VERSION:2.0
PRODID:TU Chemnitz
METHOD:PUBLISH
X-WR-CALNAME:Veranstaltungen der TU Chemnitz
X-WR-TIMEZONE:Europe/Berlin
BEGIN:VEVENT
CLASS:PUBLIC
DTSTART;TZID="Europe/Berlin":20030624T153000
DTEND;TZID="Europe/Berlin":20030624T170000
LOCATION:Reichenhainer Str. 41\, Chemnitz
SUMMARY:Vortrag: Fractional Brownian Motion and Arbitrage in Financial Markets (Fakultät für Mathematik\, Finanzmathematik)
DESCRIPTION:Prof. Dr. P. Ekkehard Kopp\, University of Hull\nDr. Matthias Richter\, Tel. 531-2669\, matthias.richter@mathematik.tu-chemnitz.de
ORGANIZER:MAILTO:richterm@hrz.tu-chemnitz.de
UID:3571@www.tu-chemnitz.de
CREATED:20030616T173800Z
DTSTAMP:20210802T201632Z
END:VEVENT
END:VCALENDAR
