BEGIN:VCALENDAR
VERSION:2.0
PRODID:TU Chemnitz
METHOD:PUBLISH
X-WR-CALNAME:Veranstaltungen der TU Chemnitz
X-WR-TIMEZONE:Europe/Berlin
BEGIN:VEVENT
CLASS:PUBLIC
DTSTART;TZID="Europe/Berlin":20030609T200000
DTEND;TZID="Europe/Berlin":20030609T220000
LOCATION:Vettersstr. 64/66\, Chemnitz (Studentenwohnheim)
SUMMARY:Pfingstgrillen (SMD)
DESCRIPTION:Wir grillen - Ihr esst ;)\nTreffpunkt im Foyer der 64/66\n\n
ORGANIZER:MAILTO:wache@hrz.tu-chemnitz.de
UID:3549@www.tu-chemnitz.de
CREATED:20030606T131000Z
DTSTAMP:20210802T201644Z
END:VEVENT
END:VCALENDAR
