BEGIN:VCALENDAR
VERSION:2.0
PRODID:TU Chemnitz
METHOD:PUBLISH
X-WR-CALNAME:Veranstaltungen der TU Chemnitz
X-WR-TIMEZONE:Europe/Berlin
BEGIN:VEVENT
CLASS:PUBLIC
DTSTART;TZID="Europe/Berlin":20030617T153000
DTEND;TZID="Europe/Berlin":20030617T170000
LOCATION:Reichenhainer Str. 70\, Chemnitz (Zentr. Hörsaal- und Seminargebäude)
SUMMARY:"Tony Blair zwischen 'altem' und 'neuem' Europa" (Philosophische Fakultät\, FB Politikwissenschaft\, Professur Internationale Politik)
DESCRIPTION:Prof. Dr. Peter Pulzer\, Oxford University
ORGANIZER:MAILTO:matz@hrz.tu-chemnitz.de
UID:3540@www.tu-chemnitz.de
CREATED:20030604T100600Z
DTSTAMP:20210802T201639Z
END:VEVENT
END:VCALENDAR
