BEGIN:VCALENDAR
VERSION:2.0
PRODID:TU Chemnitz
METHOD:PUBLISH
X-WR-CALNAME:Veranstaltungen der TU Chemnitz
X-WR-TIMEZONE:Europe/Berlin
BEGIN:VEVENT
CLASS:PUBLIC
DTSTART;TZID="Europe/Berlin":19990913T130000
DTEND;TZID="Europe/Berlin":19990915T130000
LOCATION:Uni-Teil 3: Reichenhainer Str. 70\, Chemnitz (Zentr. Hörsaal- und Seminargebäude)
SUMMARY:Chemnitzer FEM-Symposium 1999 (Fakultät für Mathematik\, und SFB 393)
DESCRIPTION:Wissenschaftliche Schwerpunkte:\n<UL>\n<LI>Auflösung von FE-Gleichungssystemen</LI>\n<LI>Anwendungen in der Strukturmechanik</LI>\n<LI>p- und hp-Version der FEM</LI>\n<LI>Implementierung auf Parallelrechnern</LI>\n</UL>\nfem99@mathematik.tu-chemnitz.de
ORGANIZER:MAILTO:tap@hrz.tu-chemnitz.de
UID:354@www.tu-chemnitz.de
CREATED:19990217T094100Z
DTSTAMP:20210802T203331Z
END:VEVENT
END:VCALENDAR
