BEGIN:VCALENDAR
VERSION:2.0
PRODID:TU Chemnitz
METHOD:PUBLISH
X-WR-CALNAME:Veranstaltungen der TU Chemnitz
X-WR-TIMEZONE:Europe/Berlin
BEGIN:VEVENT
CLASS:PUBLIC
DTSTART;TZID="Europe/Berlin":20030605T210000
DTEND;TZID="Europe/Berlin":20030605T230000
LOCATION:Reichenhainer Str. 35/37 Keller 09126 Chemnitz
SUMMARY:[Kino] im mittendrin: Das Leben des David Gale (Filmclub mittendrin)
DESCRIPTION:www.filmclub-mittendrin.de
ORGANIZER:MAILTO:fuh@hrz.tu-chemnitz.de
UID:3532@www.tu-chemnitz.de
CREATED:20030602T141800Z
DTSTAMP:20210802T201639Z
END:VEVENT
END:VCALENDAR
