BEGIN:VCALENDAR
VERSION:2.0
PRODID:TU Chemnitz
METHOD:PUBLISH
X-WR-CALNAME:Veranstaltungen der TU Chemnitz
X-WR-TIMEZONE:Europe/Berlin
BEGIN:VEVENT
CLASS:PUBLIC
DTSTART;TZID="Europe/Berlin":19990223T173000
DTEND;TZID="Europe/Berlin":19990223T190000
LOCATION:Uni-Teil 1: Str. der Nationen 62\, Chemnitz (Böttcher-Bau)
SUMMARY:UNIX-Stammtisch in Sachsen (Universitätsrechenzentrum)
DESCRIPTION:Thema: <B>Multimedia unter Linux?</B>\nAndreas Heik (URZ\, TU Chemnitz)
ORGANIZER:MAILTO:imu@hrz.tu-chemnitz.de
UID:353@www.tu-chemnitz.de
CREATED:19990215T101000Z
DTSTAMP:20210802T203504Z
END:VEVENT
END:VCALENDAR
