BEGIN:VCALENDAR
VERSION:2.0
PRODID:TU Chemnitz
METHOD:PUBLISH
X-WR-CALNAME:Veranstaltungen der TU Chemnitz
X-WR-TIMEZONE:Europe/Berlin
BEGIN:VEVENT
CLASS:PUBLIC
DTSTART;TZID="Europe/Berlin":20030508T190000
DTEND;TZID="Europe/Berlin":20030508T210000
LOCATION:wird noch bekannt gegeben
SUMMARY:Podiumsdiskussion zum Thema Zukunft der TU Chemnitz mit dem Staatsminister und dem designierten Rektor (Ring Christlich-Demokratischer Studenten Hochschulgruppe Chemnitz)
DESCRIPTION:\nEs diskutieren u.a.\n\n- der Staatsminister für Wissenschaft und Kunst des Freistaates Sachsen\, Dr. Matthias Rößler\,\n- der designierte Rektor der TU\, Prof. Dr. Klaus-Jürgen Matthes\,\n- der Landesvorsitzende des RCDS\, Sven Petermann.\n\n\nRCDS - Projekt Zukunft\nrcds@tu-chemnitz.de
ORGANIZER:MAILTO:marck@hrz.tu-chemnitz.de
UID:3519@www.tu-chemnitz.de
CREATED:20030528T153600Z
DTSTAMP:20210802T201715Z
END:VEVENT
END:VCALENDAR
