BEGIN:VCALENDAR
VERSION:2.0
PRODID:TU Chemnitz
METHOD:PUBLISH
X-WR-CALNAME:Veranstaltungen der TU Chemnitz
X-WR-TIMEZONE:Europe/Berlin
BEGIN:VEVENT
CLASS:PUBLIC
DTSTART;TZID="Europe/Berlin":20030714T080000
DTEND;TZID="Europe/Berlin":20030715T180000
LOCATION:Reichenhainer Str. 70\, Chemnitz (Zentr. Hörsaal- und Seminargebäude)
SUMMARY: 10. Chemnitzer Schüler-Sommerschule für Physik 2003  (Fakultät für Naturwissenschaften\, Institut für Physik)
DESCRIPTION: Dr. E. Fromm\, fromm@physik.tu-chemnitz.de\, Tel.: (0371)-531-3207/3212\, Fax: (0371)-531-3233
ORGANIZER:MAILTO:lfe@hrz.tu-chemnitz.de
UID:3503@www.tu-chemnitz.de
CREATED:20030520T181900Z
DTSTAMP:20210802T201558Z
END:VEVENT
END:VCALENDAR
