BEGIN:VCALENDAR
VERSION:2.0
PRODID:TU Chemnitz
METHOD:PUBLISH
X-WR-CALNAME:Veranstaltungen der TU Chemnitz
X-WR-TIMEZONE:Europe/Berlin
BEGIN:VEVENT
CLASS:PUBLIC
DTSTART;TZID="Europe/Berlin":19990212T080000
DTEND;TZID="Europe/Berlin":19990212T120000
LOCATION:Raum steht noch nicht fest
SUMMARY:Neuer Stand auf dem Gebiet großer Leistungstransformatoren (Fakultät für Elektrotechnik und Informationstechnik\, Elektrotechnisches Institut)
DESCRIPTION:Egon Kirchenmayer\, Siemens AG\nMarcus Ziegler\, 531-3346\, marcus.ziegler@e-technik.tu-chemnitz.de
ORGANIZER:MAILTO:mazi@hrz.tu-chemnitz.de
UID:350@www.tu-chemnitz.de
CREATED:19990212T130500Z
DTSTAMP:20210802T203504Z
END:VEVENT
END:VCALENDAR
