BEGIN:VCALENDAR
VERSION:2.0
PRODID:TU Chemnitz
METHOD:PUBLISH
X-WR-CALNAME:Veranstaltungen der TU Chemnitz
X-WR-TIMEZONE:Europe/Berlin
BEGIN:VEVENT
CLASS:PUBLIC
DTSTART;TZID="Europe/Berlin":20030521T171500
DTEND;TZID="Europe/Berlin":20030521T184500
LOCATION:Reichenhainer Str. 70\, Chemnitz (Rühlmann-Bau)
SUMMARY:Inkjetverfahren für die Realisierung von OFETs
  (Fakultät für Maschinenbau und Verfahrenstechnik\, Institut für Print- und Medientechnik)
DESCRIPTION:Es sind alle Mitarbeiter und Studenten recht herzlich eingeladen!\nTino Zillger\, TU Chemnitz
ORGANIZER:MAILTO:evoe@hrz.tu-chemnitz.de
UID:3499@www.tu-chemnitz.de
CREATED:20030520T112600Z
DTSTAMP:20210802T201723Z
END:VEVENT
END:VCALENDAR
