BEGIN:VCALENDAR
VERSION:2.0
PRODID:TU Chemnitz
METHOD:PUBLISH
X-WR-CALNAME:Veranstaltungen der TU Chemnitz
X-WR-TIMEZONE:Europe/Berlin
BEGIN:VEVENT
CLASS:PUBLIC
DTSTART;TZID="Europe/Berlin":20030520T210000
DTEND;TZID="Europe/Berlin":20030520T230000
LOCATION:Reichenhainer Str. 35/37 Keller 09126 Chemnitz
SUMMARY:[Kino] im mittendrin: Mein Russland (Filmclub mittendrin)
DESCRIPTION:www.filmclub-mittendrin.de
ORGANIZER:MAILTO:fuh@hrz.tu-chemnitz.de
UID:3495@www.tu-chemnitz.de
CREATED:20030519T095300Z
DTSTAMP:20210802T201726Z
END:VEVENT
END:VCALENDAR
