BEGIN:VCALENDAR
VERSION:2.0
PRODID:TU Chemnitz
METHOD:PUBLISH
X-WR-CALNAME:Veranstaltungen der TU Chemnitz
X-WR-TIMEZONE:Europe/Berlin
BEGIN:VEVENT
CLASS:PUBLIC
DTSTART;TZID="Europe/Berlin":20030623T210000
DTEND;TZID="Europe/Berlin":20030624T010000
LOCATION:Vettersstr. 70/72\, Chemnitz (Studentenwohnheim)
SUMMARY:>>>Chill Out-Lounge<<< (FPM-Studentenclub)
DESCRIPTION:\nFeinste elektronische Musik zum Entspannen nach dem Wochenende.\n\nMit DJ Chilly.\n
ORGANIZER:MAILTO:hoga@hrz.tu-chemnitz.de
UID:3485@www.tu-chemnitz.de
CREATED:20030515T184700Z
DTSTAMP:20210802T201632Z
END:VEVENT
END:VCALENDAR
